BEGIN:VCALENDAR
VERSION:2.0
PRODID:-//Sabre//Sabre VObject 4.5.8//EN
CALSCALE:GREGORIAN
BEGIN:VEVENT
UID:sabre-vobject-b30791c6-4282-4167-8a30-cb0aa66b5912
DTSTAMP:20260424T122143Z
SUMMARY:Pfarrmesse für alle Lebenden und Verstorbenen der Pfarreiengemeins
 chaft
DESCRIPTION:https://www2.bistum-augsburg.de/gottesdienste/pfarrmesse-fuer-a
 lle-lebenden-und-verstorbenen-der-pfarreiengemeinschaft_id1733694
DTSTART;TZID=Europe/Berlin:20260503T101500
DURATION:PT30M
LOCATION:Mariä Himmelfahrt
END:VEVENT
END:VCALENDAR
