BEGIN:VCALENDAR
VERSION:2.0
PRODID:-//Sabre//Sabre VObject 4.5.8//EN
CALSCALE:GREGORIAN
BEGIN:VEVENT
UID:sabre-vobject-ddd0650e-9d71-4163-af35-4e5ca0e27b4b
DTSTAMP:20260425T021322Z
SUMMARY:Feierliche Maiandacht - Musikalische Gestaltung: Männerchor Mindel
 tal
DESCRIPTION:https://www2.bistum-augsburg.de/gottesdienste/feierliche-maiand
 acht-musikalische-gestaltung-maennerchor-mindeltal_id1733695
DTSTART;TZID=Europe/Berlin:20260503T180000
DURATION:PT30M
LOCATION:Mariä Himmelfahrt
END:VEVENT
END:VCALENDAR
