BEGIN:VCALENDAR
VERSION:2.0
PRODID:-//Sabre//Sabre VObject 4.5.8//EN
CALSCALE:GREGORIAN
BEGIN:VEVENT
UID:sabre-vobject-18c73719-ffc3-471a-9049-a96e6f3c81f7
DTSTAMP:20260424T235902Z
SUMMARY:Hl. Trauung von Pia Stadler und Dominik Rieder
DESCRIPTION:https://www2.bistum-augsburg.de/gottesdienste/hl-trauung-von-pi
 a-stadler-und-dominik-rieder_id1733699
DTSTART;TZID=Europe/Berlin:20260514T140000
DURATION:PT30M
LOCATION:Heilig Kreuz\, Hl.-Kreuz-Straße 1\, 86470 Burg
END:VEVENT
END:VCALENDAR
