BEGIN:VCALENDAR
VERSION:2.0
PRODID:-//Sabre//Sabre VObject 4.5.8//EN
CALSCALE:GREGORIAN
BEGIN:VEVENT
UID:sabre-vobject-a84d4763-427b-46be-8f38-176b35cc2909
DTSTAMP:20260424T235808Z
SUMMARY:Maiandacht
DESCRIPTION:https://www2.bistum-augsburg.de/gottesdienste/maiandacht_id1733
 703
DTSTART;TZID=Europe/Berlin:20260520T183000
DURATION:PT30M
LOCATION:Heilig Kreuz\, Hl.-Kreuz-Straße 1\, 86470 Burg
END:VEVENT
END:VCALENDAR
