BEGIN:VCALENDAR
VERSION:2.0
PRODID:-//Sabre//Sabre VObject 4.5.8//EN
CALSCALE:GREGORIAN
BEGIN:VEVENT
UID:sabre-vobject-793e2f75-2342-4ee0-9ea4-e55fb03dbc6b
DTSTAMP:20260424T150736Z
SUMMARY:Hl. Messe
DESCRIPTION:https://www2.bistum-augsburg.de/gottesdienste/hl-messe_id173370
 9
DTSTART;TZID=Europe/Berlin:20260520T190000
DURATION:PT30M
LOCATION:Heilig Kreuz\, Hl.-Kreuz-Straße 1\, 86470 Burg
END:VEVENT
END:VCALENDAR
