BEGIN:VCALENDAR
VERSION:2.0
PRODID:-//Sabre//Sabre VObject 4.5.8//EN
CALSCALE:GREGORIAN
BEGIN:VEVENT
UID:sabre-vobject-dea84ae0-6097-4db5-8c2a-3828325245f1
DTSTAMP:20260425T210053Z
SUMMARY:Taufe der Kinder Ludwig Braun und Luisa Sippl
DESCRIPTION:https://www2.bistum-augsburg.de/gottesdienste/taufe-der-kinder-
 ludwig-braun-und-luisa-sippl_id1733712
DTSTART;TZID=Europe/Berlin:20260517T113000
DURATION:PT30M
LOCATION:St. Andreas\, Stephansrieder Straße 14\, 87776 Attenhausen
END:VEVENT
END:VCALENDAR
