BEGIN:VCALENDAR
VERSION:2.0
PRODID:-//Sabre//Sabre VObject 4.5.8//EN
CALSCALE:GREGORIAN
BEGIN:VEVENT
UID:sabre-vobject-908287a3-666e-42e3-b9bc-9d842787b55b
DTSTAMP:20260426T031533Z
SUMMARY:Maiandacht mitgest. vom Kirchenchor
DESCRIPTION:https://www2.bistum-augsburg.de/gottesdienste/maiandacht-mitges
 t-vom-kirchenchor_id1733713
DTSTART;TZID=Europe/Berlin:20260517T190000
DURATION:PT30M
LOCATION:St. Andreas\, Stephansrieder Straße 14\, 87776 Attenhausen
END:VEVENT
END:VCALENDAR
