BEGIN:VCALENDAR
VERSION:2.0
PRODID:-//Sabre//Sabre VObject 4.5.8//EN
CALSCALE:GREGORIAN
BEGIN:VEVENT
UID:sabre-vobject-eadd68ce-5ea4-4de3-ba19-5733d0e93f28
DTSTAMP:20260424T083730Z
SUMMARY:Rosenkranz
DESCRIPTION:https://www2.bistum-augsburg.de/gottesdienste/rosenkranz_id1733
 721
DTSTART;TZID=Europe/Berlin:20260515T080000
DURATION:PT30M
LOCATION:St. Martin
END:VEVENT
END:VCALENDAR
