BEGIN:VCALENDAR
VERSION:2.0
PRODID:-//Sabre//Sabre VObject 4.5.8//EN
CALSCALE:GREGORIAN
BEGIN:VEVENT
UID:sabre-vobject-08515df5-394e-4c2e-b901-53bfb6aef2b5
DTSTAMP:20260425T173600Z
SUMMARY:Lobpreis und Gebet in der Leonhardskapelle
DESCRIPTION:https://www2.bistum-augsburg.de/gottesdienste/lobpreis-und-gebe
 t-in-der-leonhardskapelle_id1733738
DTSTART;TZID=Europe/Berlin:20260512T100000
DURATION:PT30M
LOCATION:Mariä Himmelfahrt
END:VEVENT
END:VCALENDAR
