BEGIN:VCALENDAR
VERSION:2.0
PRODID:-//Sabre//Sabre VObject 4.5.8//EN
CALSCALE:GREGORIAN
BEGIN:VEVENT
UID:sabre-vobject-8180b7b6-cd2d-4420-92cb-cc4a0fec6415
DTSTAMP:20260425T035125Z
SUMMARY:Bittgang zur Leonhardskapelle
DESCRIPTION:https://www2.bistum-augsburg.de/gottesdienste/bittgang-zur-leon
 hardskapelle_id1733742
DTSTART;TZID=Europe/Berlin:20260513T183000
DURATION:PT30M
LOCATION:Mariä Himmelfahrt
END:VEVENT
END:VCALENDAR
