BEGIN:VCALENDAR
VERSION:2.0
PRODID:-//Sabre//Sabre VObject 4.5.8//EN
CALSCALE:GREGORIAN
BEGIN:VEVENT
UID:sabre-vobject-21cb6027-f1e8-4895-823b-d0a673162d27
DTSTAMP:20260425T031849Z
SUMMARY:Kreuzweg in der Leonhardskapelle
DESCRIPTION:https://www2.bistum-augsburg.de/gottesdienste/kreuzweg-in-der-l
 eonhardskapelle_id1733746
DTSTART;TZID=Europe/Berlin:20260515T151500
DURATION:PT30M
LOCATION:Mariä Himmelfahrt
END:VEVENT
END:VCALENDAR
