BEGIN:VCALENDAR
VERSION:2.0
PRODID:-//Sabre//Sabre VObject 4.5.8//EN
CALSCALE:GREGORIAN
BEGIN:VEVENT
UID:sabre-vobject-002cbc7e-c216-4e78-8979-85b3d2559104
DTSTAMP:20260424T121349Z
SUMMARY:Ros.
DESCRIPTION:https://www2.bistum-augsburg.de/gottesdienste/ros_id1733760
DTSTART;TZID=Europe/Berlin:20260429T172500
DURATION:PT30M
LOCATION:Mariä Himmelfahrt
END:VEVENT
END:VCALENDAR
