BEGIN:VCALENDAR
VERSION:2.0
PRODID:-//Sabre//Sabre VObject 4.5.8//EN
CALSCALE:GREGORIAN
BEGIN:VEVENT
UID:sabre-vobject-cd3dbf7a-e999-407a-a776-680d0a28b4c8
DTSTAMP:20260425T021020Z
SUMMARY:Haus- u. Krankenkommunion
DESCRIPTION:https://www2.bistum-augsburg.de/gottesdienste/haus-u-krankenkom
 munion_id1733764
DTSTART;TZID=Europe/Berlin:20260430T080000
DURATION:PT30M
LOCATION:Mariä Himmelfahrt
END:VEVENT
END:VCALENDAR
