BEGIN:VCALENDAR
VERSION:2.0
PRODID:-//Sabre//Sabre VObject 4.5.8//EN
CALSCALE:GREGORIAN
BEGIN:VEVENT
UID:sabre-vobject-1863ff56-7013-44c8-b40d-5444b54fab3c
DTSTAMP:20260425T160658Z
SUMMARY:Heilige Messe - vorher Rosenkranz
DESCRIPTION:https://www2.bistum-augsburg.de/gottesdienste/heilige-messe-vor
 her-rosenkranz_id1733773
DTSTART;TZID=Europe/Berlin:20260506T090000
DURATION:PT30M
LOCATION:St. Martin
END:VEVENT
END:VCALENDAR
