BEGIN:VCALENDAR
VERSION:2.0
PRODID:-//Sabre//Sabre VObject 4.5.8//EN
CALSCALE:GREGORIAN
BEGIN:VEVENT
UID:sabre-vobject-927b8cf7-da4a-4c05-a1fd-46a862d9f890
DTSTAMP:20260424T121228Z
SUMMARY:Wetter-Rosenkranz
DESCRIPTION:https://www2.bistum-augsburg.de/gottesdienste/wetter-rosenkranz
 _id1733776
DTSTART;TZID=Europe/Berlin:20260509T193000
DURATION:PT30M
LOCATION:Maria Immaculata\, Hs.-Nr. 14\, 87466 Oy-Mittelberg
END:VEVENT
END:VCALENDAR
