BEGIN:VCALENDAR
VERSION:2.0
PRODID:-//Sabre//Sabre VObject 4.5.8//EN
CALSCALE:GREGORIAN
BEGIN:VEVENT
UID:sabre-vobject-149fb4a9-550c-44c9-9e74-389a4f8cd9c1
DTSTAMP:20260424T203042Z
SUMMARY:Festmesse zu Pfingsten mit Kinderkirche
DESCRIPTION:https://www2.bistum-augsburg.de/gottesdienste/festmesse-zu-pfin
 gsten-mit-kinderkirche_id1733782
DTSTART;TZID=Europe/Berlin:20260524T084500
DURATION:PT30M
LOCATION:St. Johannes Evangelist
END:VEVENT
END:VCALENDAR
