BEGIN:VCALENDAR
VERSION:2.0
PRODID:-//Sabre//Sabre VObject 4.5.8//EN
CALSCALE:GREGORIAN
BEGIN:VEVENT
UID:sabre-vobject-0ec7c4fe-c80d-44ff-84ea-6736f560a41a
DTSTAMP:20260424T090455Z
SUMMARY:Feierliche Maiandacht - Musikalische Gestaltung: Kirchenchor und Or
 gel
DESCRIPTION:https://www2.bistum-augsburg.de/gottesdienste/feierliche-maiand
 acht-musikalische-gestaltung-kirchenchor-und-orgel_id1733791
DTSTART;TZID=Europe/Berlin:20260501T190000
DURATION:PT30M
LOCATION:St. Vitus
END:VEVENT
END:VCALENDAR
