BEGIN:VCALENDAR
VERSION:2.0
PRODID:-//Sabre//Sabre VObject 4.5.8//EN
CALSCALE:GREGORIAN
BEGIN:VEVENT
UID:sabre-vobject-146e25e8-9072-48e4-90ac-b5daf7ca2ea0
DTSTAMP:20260424T151756Z
SUMMARY:Bittmesse (bei schlechtem Wetter in Mindelzell)
DESCRIPTION:https://www2.bistum-augsburg.de/gottesdienste/bittmesse-bei-sch
 lechtem-wetter-in-mindelzell_id1733799
DTSTART;TZID=Europe/Berlin:20260511T191500
DURATION:PT30M
LOCATION:St. Johannes Evangelist
END:VEVENT
END:VCALENDAR
