BEGIN:VCALENDAR
VERSION:2.0
PRODID:-//Sabre//Sabre VObject 4.5.8//EN
CALSCALE:GREGORIAN
BEGIN:VEVENT
UID:sabre-vobject-14b08068-4a6e-44bb-ace5-de9e12034604
DTSTAMP:20260425T114247Z
SUMMARY:Beichtgelegenheit
DESCRIPTION:https://www2.bistum-augsburg.de/gottesdienste/beichtgelegenheit
 _id1733809
DTSTART;TZID=Europe/Berlin:20260507T181500
DURATION:PT30M
LOCATION:St. Vitus
END:VEVENT
END:VCALENDAR
