BEGIN:VCALENDAR
VERSION:2.0
PRODID:-//Sabre//Sabre VObject 4.5.8//EN
CALSCALE:GREGORIAN
BEGIN:VEVENT
UID:sabre-vobject-4115f612-def1-4166-8613-9d29a4557893
DTSTAMP:20260424T194442Z
SUMMARY:Bittgang nach Burg
DESCRIPTION:https://www2.bistum-augsburg.de/gottesdienste/bittgang-nach-bur
 g_id1733827
DTSTART;TZID=Europe/Berlin:20260511T183000
DURATION:PT30M
LOCATION:St. Vitus
END:VEVENT
END:VCALENDAR
