BEGIN:VCALENDAR
VERSION:2.0
PRODID:-//Sabre//Sabre VObject 4.5.8//EN
CALSCALE:GREGORIAN
BEGIN:VEVENT
UID:sabre-vobject-90a4a1be-01f3-4b87-b058-2303d308b6fc
DTSTAMP:20260424T220604Z
SUMMARY:Bittgang nach Memmenhausen
DESCRIPTION:https://www2.bistum-augsburg.de/gottesdienste/bittgang-nach-mem
 menhausen_id1733828
DTSTART;TZID=Europe/Berlin:20260512T183000
DURATION:PT30M
LOCATION:St. Vitus
END:VEVENT
END:VCALENDAR
