BEGIN:VCALENDAR
VERSION:2.0
PRODID:-//Sabre//Sabre VObject 4.5.8//EN
CALSCALE:GREGORIAN
BEGIN:VEVENT
UID:sabre-vobject-bdbd9d3b-652d-484f-8406-66cdd5816be3
DTSTAMP:20260424T175605Z
SUMMARY:Maiandacht\, musik. Gestaltung: Kirchenchor
DESCRIPTION:https://www2.bistum-augsburg.de/gottesdienste/maiandacht-musik-
 gestaltung-kirchenchor_id1733832
DTSTART;TZID=Europe/Berlin:20260517T193000
DURATION:PT30M
LOCATION:Heilig Kreuz
END:VEVENT
END:VCALENDAR
