BEGIN:VCALENDAR
VERSION:2.0
PRODID:-//Sabre//Sabre VObject 4.5.8//EN
CALSCALE:GREGORIAN
BEGIN:VEVENT
UID:sabre-vobject-a1a1b5e6-80a3-45e8-952c-bc0f26a2c1fd
DTSTAMP:20260424T162918Z
SUMMARY:Heilige Messe im Haus Elfriede - alle Gläubigen aus unserer Gemein
 de sind eingeladen\, mitzufeiern.
DESCRIPTION:https://www2.bistum-augsburg.de/gottesdienste/heilige-messe-im-
 haus-elfriede-alle-glaeubigen-aus-unserer-gemeinde-sind-eingeladen-mitzufe
 iern_id1733878
DTSTART;TZID=Europe/Berlin:20260507T160000
DURATION:PT30M
LOCATION:Zum Guten Hirten
END:VEVENT
END:VCALENDAR
