BEGIN:VCALENDAR
VERSION:2.0
PRODID:-//Sabre//Sabre VObject 4.5.8//EN
CALSCALE:GREGORIAN
BEGIN:VEVENT
UID:sabre-vobject-a58b34e2-a297-4b1e-a678-b92c8f33c10e
DTSTAMP:20260424T111543Z
SUMMARY:Wortgottesfeier mit Möglichkeit zum Kommunionempfang. Anschließen
 d herzliche Einladung zum Kirchenkaffee im Pfarrsaal
DESCRIPTION:https://www2.bistum-augsburg.de/gottesdienste/wortgottesfeier-m
 it-moeglichkeit-zum-kommunionempfang-anschliessend-herzliche-einladung-zum
 -kirchenkaffee-im-pfarrsaal_id1733888
DTSTART;TZID=Europe/Berlin:20260510T103000
DURATION:PT30M
LOCATION:Verklärung Christi
END:VEVENT
END:VCALENDAR
