BEGIN:VCALENDAR
VERSION:2.0
PRODID:-//Sabre//Sabre VObject 4.5.8//EN
CALSCALE:GREGORIAN
BEGIN:VEVENT
UID:sabre-vobject-b325db0a-da79-4841-8902-13647902c3a5
DTSTAMP:20260424T161643Z
SUMMARY:Weggang am Ulrichsbrunnen zum Bittgang nach Bichel. \nAnschl. Eucha
 ristiefeier in der Kapelle Hl. Benno. \n(Bei schlechter Witterung ist um 1
 9.00 Uhr Rosenkranz und 19.30 Uhr Bittgottesdienst 
DESCRIPTION:https://www2.bistum-augsburg.de/gottesdienste/weggang-am-ulrich
 sbrunnen-zum-bittgang-nach-bichel-anschl-eucharistiefeier-in-der-kapelle-h
 l-benno-bei-schlechter-witterung-ist-um-19-00-uhr-rosenkranz-und-19-30-uhr
 -bittgottesdienst_id1733895
DTSTART;TZID=Europe/Berlin:20260512T190000
DURATION:PT30M
LOCATION:St. Ulrich
END:VEVENT
END:VCALENDAR
