BEGIN:VCALENDAR
VERSION:2.0
PRODID:-//Sabre//Sabre VObject 4.5.8//EN
CALSCALE:GREGORIAN
BEGIN:VEVENT
UID:sabre-vobject-8a980a83-e8da-4133-98ff-15f754b64af1
DTSTAMP:20260425T143209Z
SUMMARY:Eucharistische Anbetung
DESCRIPTION:https://www2.bistum-augsburg.de/gottesdienste/eucharistische-an
 betung_id1733907
DTSTART;TZID=Europe/Berlin:20260526T181500
DURATION:PT30M
LOCATION:St. Ulrich
END:VEVENT
END:VCALENDAR
