BEGIN:VCALENDAR
VERSION:2.0
PRODID:-//Sabre//Sabre VObject 4.5.8//EN
CALSCALE:GREGORIAN
BEGIN:VEVENT
UID:sabre-vobject-34a1398f-8def-45ef-8073-019f696405b7
DTSTAMP:20260425T161553Z
SUMMARY:Maiandacht in Mariä Heimsuchung in Vorderreute
DESCRIPTION:https://www2.bistum-augsburg.de/gottesdienste/maiandacht-in-mar
 iae-heimsuchung-in-vorderreute_id1733919
DTSTART;TZID=Europe/Berlin:20260522T193000
DURATION:PT30M
LOCATION:St. Ulrich
END:VEVENT
END:VCALENDAR
