BEGIN:VCALENDAR
VERSION:2.0
PRODID:-//Sabre//Sabre VObject 4.5.8//EN
CALSCALE:GREGORIAN
BEGIN:VEVENT
UID:sabre-vobject-02c38ceb-88ec-496f-b61b-183524ad39e2
DTSTAMP:20260424T174243Z
SUMMARY:Pfarrgottesdienst zum Stadelfest am Pestfriedhof mit dem Trachtenve
 rein und der Musikkapelle (bei schlechtem Wetter in der Kirche)
DESCRIPTION:https://www2.bistum-augsburg.de/gottesdienste/pfarrgottesdienst
 -zum-stadelfest-am-pestfriedhof-mit-dem-trachtenverein-und-der-musikkapell
 e-bei-schlechtem-wetter-in-der-kirche_id1733933
DTSTART;TZID=Europe/Berlin:20260510T103000
DURATION:PT30M
LOCATION:St. Michael
END:VEVENT
END:VCALENDAR
