BEGIN:VCALENDAR
VERSION:2.0
PRODID:-//Sabre//Sabre VObject 4.5.8//EN
CALSCALE:GREGORIAN
BEGIN:VEVENT
UID:sabre-vobject-0cea6637-5632-4624-9cd0-0f24ba15abe2
DTSTAMP:20260425T023538Z
SUMMARY:Maiandacht mit Aussetzung des Allerheiligsten\, musik. Gestaltung: 
 Sonja u. Manuel Huber
DESCRIPTION:https://www2.bistum-augsburg.de/gottesdienste/maiandacht-mit-au
 ssetzung-des-allerheiligsten-musik-gestaltung-sonja-u-manuel-huber_id17339
 54
DTSTART;TZID=Europe/Berlin:20260524T190000
DURATION:PT30M
LOCATION:St. Peter und Paul\, Thalstr. 31\, 87466 Oy-Mittelberg
END:VEVENT
END:VCALENDAR
