BEGIN:VCALENDAR
VERSION:2.0
PRODID:-//Sabre//Sabre VObject 4.5.8//EN
CALSCALE:GREGORIAN
BEGIN:VEVENT
UID:sabre-vobject-28c47156-64c9-4bcd-80a7-f8cb24d9c35a
DTSTAMP:20260424T172228Z
SUMMARY:Pfarrgottesdienst
DESCRIPTION:https://www2.bistum-augsburg.de/gottesdienste/pfarrgottesdienst
 _id1733956
DTSTART;TZID=Europe/Berlin:20260517T103000
DURATION:PT30M
LOCATION:Maria Immaculata\, Hs.-Nr. 14\, 87466 Oy-Mittelberg
END:VEVENT
END:VCALENDAR
