BEGIN:VCALENDAR
VERSION:2.0
PRODID:-//Sabre//Sabre VObject 4.5.8//EN
CALSCALE:GREGORIAN
BEGIN:VEVENT
UID:sabre-vobject-2f62061e-fe48-41f3-8b8f-8c9ff0d1ab08
DTSTAMP:20260425T135031Z
SUMMARY:Festgottesdienst zum Hohen Pfingstfest. Musik. Gestaltung: Jodlergr
 uppe Petersthal und Margit Haggenmüller
DESCRIPTION:https://www2.bistum-augsburg.de/gottesdienste/festgottesdienst-
 zum-hohen-pfingstfest-musik-gestaltung-jodlergruppe-petersthal-und-margit-
 haggenmueller_id1733970
DTSTART;TZID=Europe/Berlin:20260524T090000
DURATION:PT30M
LOCATION:St. Peter und Paul\, Thalstr. 31\, 87466 Oy-Mittelberg
END:VEVENT
END:VCALENDAR
