BEGIN:VCALENDAR
VERSION:2.0
PRODID:-//Sabre//Sabre VObject 4.5.8//EN
CALSCALE:GREGORIAN
BEGIN:VEVENT
UID:sabre-vobject-ee2668d2-f2a9-40d4-a099-8030eff9012a
DTSTAMP:20260425T112006Z
SUMMARY:Festgottesdienst "150 Jahre Freiwillige Feuerwehr Großanhausen" mi
 t Fahnenweihe bei St. Gangolf\, Kleinanhausen (bei Regen in der Kirche Mar
 iä Opferung\, Großanhausen) anschl. Frühschoppen bei
DESCRIPTION:https://www2.bistum-augsburg.de/gottesdienste/festgottesdienst-
 150-jahre-freiwillige-feuerwehr-grossanhausen-mit-fahnenweihe-bei-st-gango
 lf-kleinanhausen-bei-regen-in-der-kirche-mariae-opferung-grossanhausen-ans
 chl-fruehschoppen-bei_id1733994
DTSTART;TZID=Europe/Berlin:20260525T090000
DURATION:PT30M
LOCATION:Mariä Opferung
END:VEVENT
END:VCALENDAR
