BEGIN:VCALENDAR
VERSION:2.0
PRODID:-//Sabre//Sabre VObject 4.5.8//EN
CALSCALE:GREGORIAN
BEGIN:VEVENT
UID:sabre-vobject-885609d2-51fb-456c-a93e-b6e17819e01b
DTSTAMP:20260425T012107Z
SUMMARY:Maiandacht
DESCRIPTION:https://www2.bistum-augsburg.de/gottesdienste/maiandacht_id1734
 009
DTSTART;TZID=Europe/Berlin:20260531T183000
DURATION:PT30M
LOCATION:St. Blasius
END:VEVENT
END:VCALENDAR
