BEGIN:VCALENDAR
VERSION:2.0
PRODID:-//Sabre//Sabre VObject 4.5.8//EN
CALSCALE:GREGORIAN
BEGIN:VEVENT
UID:sabre-vobject-5350cb87-8528-4903-b2f8-233432072409
DTSTAMP:20260425T192232Z
SUMMARY:Heilige Messe
DESCRIPTION:https://www2.bistum-augsburg.de/gottesdienste/heilige-messe_id1
 734033
DTSTART;TZID=Europe/Berlin:20260522T160000
DURATION:PT30M
LOCATION:St. Michael
END:VEVENT
END:VCALENDAR
