BEGIN:VCALENDAR
VERSION:2.0
PRODID:-//Sabre//Sabre VObject 4.5.8//EN
CALSCALE:GREGORIAN
BEGIN:VEVENT
UID:sabre-vobject-f2a61a11-7677-4bf9-84d2-be03c40d7113
DTSTAMP:20260425T143347Z
SUMMARY:Pfarrgottesdienst für die Lebenden und Verstorbenen der Pfarreieng
 emeinschaft
DESCRIPTION:https://www2.bistum-augsburg.de/gottesdienste/pfarrgottesdienst
 -fuer-die-lebenden-und-verstorbenen-der-pfarreiengemeinschaft_id1734038
DTSTART;TZID=Europe/Berlin:20260531T100000
DURATION:PT30M
LOCATION:Mariä Himmelfahrt
END:VEVENT
END:VCALENDAR
