BEGIN:VCALENDAR
VERSION:2.0
PRODID:-//Sabre//Sabre VObject 4.5.8//EN
CALSCALE:GREGORIAN
BEGIN:VEVENT
UID:sabre-vobject-380d8a89-140b-436b-8745-967b9c713327
DTSTAMP:20260424T192029Z
SUMMARY:Pfarrgottesdienst mit Kinderevangelium
DESCRIPTION:https://www2.bistum-augsburg.de/gottesdienste/pfarrgottesdienst
 -mit-kinderevangelium_id1734045
DTSTART;TZID=Europe/Berlin:20260517T103000
DURATION:PT30M
LOCATION:St. Felizitas
END:VEVENT
END:VCALENDAR
