BEGIN:VCALENDAR
VERSION:2.0
PRODID:-//Sabre//Sabre VObject 4.5.8//EN
CALSCALE:GREGORIAN
BEGIN:VEVENT
UID:sabre-vobject-86fe6eea-abee-4cee-9a22-4345ba1c4db6
DTSTAMP:20260425T192331Z
SUMMARY:Maiandacht\, gestaltet von Frauenbund und der Laudatio Gruppe
DESCRIPTION:https://www2.bistum-augsburg.de/gottesdienste/maiandacht-gestal
 tet-von-frauenbund-und-der-laudatio-gruppe_id1734050
DTSTART;TZID=Europe/Berlin:20260520T193000
DURATION:PT30M
LOCATION:Verklärung Christi
END:VEVENT
END:VCALENDAR
