BEGIN:VCALENDAR
VERSION:2.0
PRODID:-//Sabre//Sabre VObject 4.5.8//EN
CALSCALE:GREGORIAN
BEGIN:VEVENT
UID:sabre-vobject-79de45a3-9bd2-4217-9381-bb675ac14691
DTSTAMP:20260424T192949Z
SUMMARY:Heilige Messe
DESCRIPTION:https://www2.bistum-augsburg.de/gottesdienste/heilige-messe_id1
 734071
DTSTART;TZID=Europe/Berlin:20260506T191500
DURATION:PT30M
LOCATION:Patrona Bavariae\, Obere Hauptstraße 20\, 87782 Unteregg
END:VEVENT
END:VCALENDAR
