BEGIN:VCALENDAR
VERSION:2.0
PRODID:-//Sabre//Sabre VObject 4.5.8//EN
CALSCALE:GREGORIAN
BEGIN:VEVENT
UID:sabre-vobject-af1309b9-3a76-4e29-8768-c873ac0dfcc4
DTSTAMP:20260424T174158Z
SUMMARY:Krankenkommunion
DESCRIPTION:https://www2.bistum-augsburg.de/gottesdienste/krankenkommunion_
 id1734072
DTSTART;TZID=Europe/Berlin:20260507T090000
DURATION:PT30M
LOCATION:Patrona Bavariae\, Obere Hauptstraße 20\, 87782 Unteregg
END:VEVENT
END:VCALENDAR
