BEGIN:VCALENDAR
VERSION:2.0
PRODID:-//Sabre//Sabre VObject 4.5.8//EN
CALSCALE:GREGORIAN
BEGIN:VEVENT
UID:sabre-vobject-bd781444-ef6d-486f-b5ae-798a4af881ec
DTSTAMP:20260426T011935Z
SUMMARY:Pfarrgottesdienst f. Lebende u. Verstorbene der Pfarrei
DESCRIPTION:https://www2.bistum-augsburg.de/gottesdienste/pfarrgottesdienst
 -f-lebende-u-verstorbene-der-pfarrei_id1734122
DTSTART;TZID=Europe/Berlin:20260503T101500
DURATION:PT30M
LOCATION:St. Michael
END:VEVENT
END:VCALENDAR
