BEGIN:VCALENDAR
VERSION:2.0
PRODID:-//Sabre//Sabre VObject 4.5.8//EN
CALSCALE:GREGORIAN
BEGIN:VEVENT
UID:sabre-vobject-3faedf7e-7348-462d-b2b4-b51dc2b8f6f5
DTSTAMP:20260425T002524Z
SUMMARY:Beichtgelegenheit
DESCRIPTION:https://www2.bistum-augsburg.de/gottesdienste/beichtgelegenheit
 _id1734169
DTSTART;TZID=Europe/Berlin:20260504T094500
DURATION:PT30M
LOCATION:Wallfahrtsdirektion Mariä Schmerzen
END:VEVENT
END:VCALENDAR
