BEGIN:VCALENDAR
VERSION:2.0
PRODID:-//Sabre//Sabre VObject 4.5.8//EN
CALSCALE:GREGORIAN
BEGIN:VEVENT
UID:sabre-vobject-59275bc3-7a29-4d52-957f-9252cbab1070
DTSTAMP:20260425T031927Z
SUMMARY:Pilgermesse in den Anliegen der Pilger\;
DESCRIPTION:https://www2.bistum-augsburg.de/gottesdienste/pilgermesse-in-de
 n-anliegen-der-pilger_id1734170
DTSTART;TZID=Europe/Berlin:20260504T101500
DURATION:PT30M
LOCATION:Wallfahrtsdirektion Mariä Schmerzen
END:VEVENT
END:VCALENDAR
