BEGIN:VCALENDAR
VERSION:2.0
PRODID:-//Sabre//Sabre VObject 4.5.8//EN
CALSCALE:GREGORIAN
BEGIN:VEVENT
UID:sabre-vobject-ae2bf116-ada8-4214-971e-27c17761277c
DTSTAMP:20260426T031547Z
SUMMARY:Pilgermesse in den Anliegen der Pilger\;
DESCRIPTION:https://www2.bistum-augsburg.de/gottesdienste/pilgermesse-in-de
 n-anliegen-der-pilger_id1734182
DTSTART;TZID=Europe/Berlin:20260508T101500
DURATION:PT30M
LOCATION:Wallfahrtsdirektion Mariä Schmerzen
END:VEVENT
END:VCALENDAR
