BEGIN:VCALENDAR
VERSION:2.0
PRODID:-//Sabre//Sabre VObject 4.5.8//EN
CALSCALE:GREGORIAN
BEGIN:VEVENT
UID:sabre-vobject-36bf6151-3f4c-48b6-8148-8b4c118cb02a
DTSTAMP:20260424T163029Z
SUMMARY:Maiandacht am Wasserschloss mit Maria Hilf
DESCRIPTION:https://www2.bistum-augsburg.de/gottesdienste/maiandacht-am-was
 serschloss-mit-maria-hilf_id1734188
DTSTART;TZID=Europe/Berlin:20260503T180000
DURATION:PT30M
LOCATION:St. Michael
END:VEVENT
END:VCALENDAR
