BEGIN:VCALENDAR
VERSION:2.0
PRODID:-//Sabre//Sabre VObject 4.5.8//EN
CALSCALE:GREGORIAN
BEGIN:VEVENT
UID:sabre-vobject-48b860c4-6510-47c2-859f-e1f4c8e6263a
DTSTAMP:20260425T210042Z
SUMMARY:ökumenisches Friedensgebet
DESCRIPTION:https://www2.bistum-augsburg.de/gottesdienste/oekumenisches-fri
 edensgebet_id1734189
DTSTART;TZID=Europe/Berlin:20260503T190000
DURATION:PT30M
LOCATION:St. Michael
END:VEVENT
END:VCALENDAR
