BEGIN:VCALENDAR
VERSION:2.0
PRODID:-//Sabre//Sabre VObject 4.5.8//EN
CALSCALE:GREGORIAN
BEGIN:VEVENT
UID:sabre-vobject-92bf91e5-dafa-442c-a18c-4ad80cd47473
DTSTAMP:20260424T091808Z
SUMMARY:Entfällt: Heilige Messe
DESCRIPTION:https://www2.bistum-augsburg.de/gottesdienste/entfaellt-heilige
 -messe_id1734204
DTSTART;TZID=Europe/Berlin:20260512T140000
DURATION:PT30M
LOCATION:St. Michael
END:VEVENT
END:VCALENDAR
