BEGIN:VCALENDAR
VERSION:2.0
PRODID:-//Sabre//Sabre VObject 4.5.8//EN
CALSCALE:GREGORIAN
BEGIN:VEVENT
UID:sabre-vobject-ded61ec2-20c0-4619-b92d-473e3b414b5b
DTSTAMP:20260424T083825Z
SUMMARY:Sternförmiger Bittgang nach Niederraunau zur Grotte - Treffpunkt: 
 Krankenhaus Krumbach (bei schlechtem Wetter nur um 19:00 Uhr Hl. Messe in 
 der Kirche Niederraunau)
DESCRIPTION:https://www2.bistum-augsburg.de/gottesdienste/sternfoermiger-bi
 ttgang-nach-niederraunau-zur-grotte-treffpunkt-krankenhaus-krumbach-bei-sc
 hlechtem-wetter-nur-um-19-00-uhr-hl-messe-in-der-kirche-niederraunau_id173
 4205
DTSTART;TZID=Europe/Berlin:20260512T181500
DURATION:PT30M
LOCATION:St. Michael
END:VEVENT
END:VCALENDAR
