BEGIN:VCALENDAR
VERSION:2.0
PRODID:-//Sabre//Sabre VObject 4.5.8//EN
CALSCALE:GREGORIAN
BEGIN:VEVENT
UID:sabre-vobject-132337c2-3f8a-43c1-aa2a-e8a072b81d81
DTSTAMP:20260424T200816Z
SUMMARY:Entfällt: Heilige Messe wg. Bittmesse
DESCRIPTION:https://www2.bistum-augsburg.de/gottesdienste/entfaellt-heilige
 -messe-wg-bittmesse_id1734208
DTSTART;TZID=Europe/Berlin:20260513T080000
DURATION:PT30M
LOCATION:St. Michael
END:VEVENT
END:VCALENDAR
