BEGIN:VCALENDAR
VERSION:2.0
PRODID:-//Sabre//Sabre VObject 4.5.8//EN
CALSCALE:GREGORIAN
BEGIN:VEVENT
UID:sabre-vobject-67d4cfff-70c1-4474-bff4-aafbb3bb7342
DTSTAMP:20260425T035107Z
SUMMARY:Sternförmiger Bittgang nach Niederraunau zur Grotte - Treffpunkt f
 ür Haupeltshofen und Aletshausen: vor der Schule in Niederraunau (bei sch
 lechtem Wetter nur um 19:00 Uhr Hl. Messe in der Ki
DESCRIPTION:https://www2.bistum-augsburg.de/gottesdienste/sternfoermiger-bi
 ttgang-nach-niederraunau-zur-grotte-treffpunkt-fuer-haupeltshofen-und-alet
 shausen-vor-der-schule-in-niederraunau-bei-schlechtem-wetter-nur-um-19-00-
 uhr-hl-messe-in-der-ki_id1734263
DTSTART;TZID=Europe/Berlin:20260512T183000
DURATION:PT30M
LOCATION:Mariä Heimsuchung Benefizium\, Am Käppele\, 86480 Haupeltshofen
END:VEVENT
END:VCALENDAR
