BEGIN:VCALENDAR
VERSION:2.0
PRODID:-//Sabre//Sabre VObject 4.5.8//EN
CALSCALE:GREGORIAN
BEGIN:VEVENT
UID:sabre-vobject-2a4066f6-20e8-4118-9719-fe61ad571d25
DTSTAMP:20260425T224336Z
SUMMARY:Maiandacht\, musikalische Gestaltung durch die Uttinger Stubnmusik
DESCRIPTION:https://www2.bistum-augsburg.de/gottesdienste/maiandacht-musika
 lische-gestaltung-durch-die-uttinger-stubnmusik_id1734269
DTSTART;TZID=Europe/Berlin:20260520T193000
DURATION:PT30M
LOCATION:Mariä Heimsuchung
END:VEVENT
END:VCALENDAR
